BEGIN:VCALENDAR
PRODID:-//eluceo/ical//2.0/EN
VERSION:2.0
CALSCALE:GREGORIAN
BEGIN:VEVENT
UID:36b9cfe78f9a0fd42c924ca989a2eed2
DTSTAMP:20260422T133358Z
SUMMARY:JFS 36th Anniversary Shabbat
DESCRIPTION:Jewish Federation of West-Central New Jersey\nCommunity Calenda
 r\nhttps://jfedwcnj.org/calendar/jfs-36th-anniversary-shabbat-1459875033\n
 \nJFS 36th Anniversary Shabbat at Kehilat Shalom\, Belle Mead
DTSTART;TZID=America/New_York:20160506T200000
DTEND;TZID=America/New_York:20160506T210000
END:VEVENT
END:VCALENDAR
