BEGIN:VCALENDAR
PRODID:-//eluceo/ical//2.0/EN
VERSION:2.0
CALSCALE:GREGORIAN
BEGIN:VEVENT
UID:9ad622873461bf8751ed942980ba4c93
DTSTAMP:20260422T072716Z
SUMMARY:JFS 36th Anniversary Shabbat
DESCRIPTION:Jewish Federation of West-Central New Jersey\nCommunity Calenda
 r\nhttps://jfedwcnj.org/calendar/jfs-36th-anniversary-shabbat-1459874807\n
 \nJFS 36th Anniversary Shabbat at Temple Beth El\, Hillsborough
DTSTART;TZID=America/New_York:20160429T200000
DTEND;TZID=America/New_York:20160429T210000
END:VEVENT
END:VCALENDAR
