BEGIN:VCALENDAR
PRODID:-//eluceo/ical//2.0/EN
VERSION:2.0
CALSCALE:GREGORIAN
BEGIN:VEVENT
UID:f6dcdea6cb6a354c210b7646bfa324f9
DTSTAMP:20260424T111954Z
SUMMARY:JFEDWCNJ is hosting AISH HA'AM's documentary premier\, Frontline Wa
 rrior
DESCRIPTION:Jewish Federation of West-Central New Jersey\nCommunity Calenda
 r\nhttps://jfedwcnj.org/calendar/jfedwcnj-is-hosting-aish-haams-documentar
 y-premier-frontline-warrior\n\nJewish Federation of West-Central New Jerse
 y is hosting AISH HA'AM's upcoming documentary film premier\, Frontline W
 arriors\,which sheds light on the rising tide of antisemitism on universit
 y campuses across the United States. The film gives a window into this per
 vasive issue by following the story of three Jewish student leaders at Har
 vard\, Columbia\, and UCLA\, who faced and stood up to the Jew hatred on t
 heir campuses.\n\nThe film not only chronicles their courageous stand agai
 nst hatred\, but...
DTSTART;TZID=America/New_York:20250311T190000
DTEND;TZID=America/New_York:20250311T210000
END:VEVENT
END:VCALENDAR
