BEGIN:VCALENDAR
PRODID:-//eluceo/ical//2.0/EN
VERSION:2.0
CALSCALE:GREGORIAN
BEGIN:VEVENT
UID:1cfa32852f0f84ee2a86b6465ef8bef6
DTSTAMP:20260422T125752Z
SUMMARY:JFEDWCNJ BNG GOES HATCHET THROWING
DESCRIPTION:Jewish Federation of West-Central New Jersey\nCommunity Calenda
 r\nhttps://jfedwcnj.org/calendar/jfedwcnj-bng-goes-hatchet-throwing\n\nJoi
 n the Business Networking Group of JFEDWCNJ goes Hatchet Throwing. \n\nOc
 tober 5\, 2023 \n\n5:30pm \n\nStumpy's Hatchet House \n\nBNG is chaired
  by Andy Tupler and Ken Kaplan \n\nQuestions contact Lauren at 908-758-20
 03 or Ledelman@jfedwcnj.org 
DTSTART;TZID=America/New_York:20231005T173000
DTEND;TZID=America/New_York:20231005T193000
END:VEVENT
END:VCALENDAR
