BEGIN:VCALENDAR
PRODID:-//eluceo/ical//2.0/EN
VERSION:2.0
CALSCALE:GREGORIAN
BEGIN:VEVENT
UID:c15e8f2a0e9c88807e55bd7f96d95792
DTSTAMP:20260422T155531Z
SUMMARY:JFEDSHAW Community Yom Ha'Atzmaut
DESCRIPTION:Jewish Federation of West-Central New Jersey\nCommunity Calenda
 r\nhttps://jfedwcnj.org/calendar/jfedshaw-community-yom-haatzmaut\n\n \n\
 n\nCelebrate Israel at 75 this Yom Ha'Atzmaut with the \n\nJewish
  Federation of Somerset\, Hunterdon & Warren \n\nCounties \n\n \n
 \nMay 3\, 2023 at 7pm \n\n775 Talamini Road\, Bridgewater\, NJ\n\
 nFor questions contact Lauren Edelman at \n\n908-758-2003 or ledel
 man@jfedshaw.org  \n\n \n\n\n\n\n\nMeet Acting Consul General Israeli
  Consulate\, New York Israel Nitzan\n\n 
DTSTART;TZID=America/New_York:20230503T190000
DTEND;TZID=America/New_York:20230503T210000
END:VEVENT
END:VCALENDAR
