BEGIN:VCALENDAR
PRODID:-//eluceo/ical//2.0/EN
VERSION:2.0
CALSCALE:GREGORIAN
BEGIN:VEVENT
UID:253586577a9c707397decc196882c5b0
DTSTAMP:20260425T161418Z
SUMMARY:JFedSHAW Board Meeting
DESCRIPTION:Jewish Federation of West-Central New Jersey\nCommunity Calenda
 r\nhttps://jfedwcnj.org/calendar/jfedshaw-board-meeting-1450986279\n\nNov.
  JFedSHAW Board Meeting
DTSTART;TZID=America/New_York:20161115T183000
DTEND;TZID=America/New_York:20161115T210000
END:VEVENT
END:VCALENDAR
