BEGIN:VCALENDAR
PRODID:-//eluceo/ical//2.0/EN
VERSION:2.0
CALSCALE:GREGORIAN
BEGIN:VEVENT
UID:ddad7b8466fbde91c10dd74b76bf9b38
DTSTAMP:20260422T104325Z
SUMMARY:JFedSHAW Board Meeting
DESCRIPTION:Jewish Federation of West-Central New Jersey\nCommunity Calenda
 r\nhttps://jfedwcnj.org/calendar/jfedshaw-board-meeting-1450986228\n\nOct.
  JFedSHAW Board Meeting
DTSTART;TZID=America/New_York:20161019T183000
DTEND;TZID=America/New_York:20161019T210000
END:VEVENT
END:VCALENDAR
