BEGIN:VCALENDAR
PRODID:-//eluceo/ical//2.0/EN
VERSION:2.0
CALSCALE:GREGORIAN
BEGIN:VEVENT
UID:1922b4a9b7037f306e7da07481f71871
DTSTAMP:20260423T050724Z
SUMMARY:JFedSHAW Board Meeting
DESCRIPTION:Jewish Federation of West-Central New Jersey\nCommunity Calenda
 r\nhttps://jfedwcnj.org/calendar/jfedshaw-board-meeting-1450986179\n\nSep.
  JFedSHAW Board Meeting
DTSTART;TZID=America/New_York:20160920T183000
DTEND;TZID=America/New_York:20160920T210000
END:VEVENT
END:VCALENDAR
