BEGIN:VCALENDAR
PRODID:-//eluceo/ical//2.0/EN
VERSION:2.0
CALSCALE:GREGORIAN
BEGIN:VEVENT
UID:3da8a23b6edc0837f593eff50d6c1cb3
DTSTAMP:20260421T051709Z
SUMMARY:Jewish Federation &  Jewish Community Center Annual Meeting
DESCRIPTION:Jewish Federation of West-Central New Jersey\nCommunity Calenda
 r\nhttps://jfedwcnj.org/calendar/jfedjcc-annual-meeting\n\nThe annual meet
 ing of the Federation and JCC community to celebrate our successes togeth
 er. 
DTSTART;TZID=America/New_York:20170613T183000
DTEND;TZID=America/New_York:20170613T203000
END:VEVENT
END:VCALENDAR
