BEGIN:VCALENDAR
PRODID:-//eluceo/ical//2.0/EN
VERSION:2.0
CALSCALE:GREGORIAN
BEGIN:VEVENT
UID:f8b8afe0a2560c5b1542ff9c37a2f474
DTSTAMP:20260423T154115Z
SUMMARY:JFed & JCC Joint Annual Meeting
DESCRIPTION:Jewish Federation of West-Central New Jersey\nCommunity Calenda
 r\nhttps://jfedwcnj.org/calendar/jfed-jcc-joint-annual-meeting\n\nMore inf
 romation coming soon 
DTSTART;TZID=America/New_York:20230607T190000
DTEND;TZID=America/New_York:20230607T210000
END:VEVENT
END:VCALENDAR
