BEGIN:VCALENDAR
PRODID:-//eluceo/ical//2.0/EN
VERSION:2.0
CALSCALE:GREGORIAN
BEGIN:VEVENT
UID:93779111a05768bb1662d3cf5023d6e1
DTSTAMP:20260420T215757Z
SUMMARY:JFed & JCC  Joint Annual Meeting
DESCRIPTION:Jewish Federation of West-Central New Jersey\nCommunity Calenda
 r\nhttps://jfedwcnj.org/calendar/jfed--jcc--joint-annual-meeting-157843228
 0\n\nSave the date for the Jewish Federation of Somerset\, Hunterdon & War
 ren Counties joint annual meeting with the Shimon and Sara Birnbaum Jewish
  Community Center
DTSTART;TZID=America/New_York:20200609T183000
DTEND;TZID=America/New_York:20200609T210000
END:VEVENT
END:VCALENDAR
