BEGIN:VCALENDAR
PRODID:-//eluceo/ical//2.0/EN
VERSION:2.0
CALSCALE:GREGORIAN
BEGIN:VEVENT
UID:3e0b0480894dbca0d6b7168d247e75c8
DTSTAMP:20260422T135300Z
SUMMARY:"Jews of Sicily: A Forgotten History" with Sergio Calderella
DESCRIPTION:Jewish Federation of West-Central New Jersey\nCommunity Calenda
 r\nhttps://jfedwcnj.org/calendar/jews-of-sicily-a-forgotten-history-with-s
 ergio-calderlla-1444398517\n\nThe saga of Jewish history has no simple cha
 pters\, and the chapter on Sicilian Jews is certainly no exception. While 
 the histories of Galician\, Indian\, and Japanese Jews have been studied e
 xtensively\, one of the oldest communities of the Diaspora has been genera
 lly neglected. The biggest island of the Mediterranean Sea\, Sicily\, has 
 been for millennia one of the most important crossroads of the early civil
 izations.\n\nJews have left their mark in many Sicilian areas\, from their
  language\, to th...
DTSTART;TZID=America/New_York:20160128T193000
DTEND;TZID=America/New_York:20160128T210000
END:VEVENT
END:VCALENDAR
