BEGIN:VCALENDAR
PRODID:-//eluceo/ical//2.0/EN
VERSION:2.0
CALSCALE:GREGORIAN
BEGIN:VEVENT
UID:1fb61c912e0d1656599f8806b8635345
DTSTAMP:20260421T162521Z
SUMMARY:Jews by Nature: Summer Camp\, Youth\, and American Jewish Culture
DESCRIPTION:Jewish Federation of West-Central New Jersey\nCommunity Calenda
 r\nhttps://jfedwcnj.org/calendar/jews-by-nature-summer-camp-youth-and-amer
 ican-jewish-culture-1703184666\n\nFearful that growing affluence and subur
 banization threatened the future of Jewish life in the decades after the H
 olocaust\, American Jewish leaders hoped to preserve authentic Jewish cult
 ure through residential summer camps for Jewish youth. Prof. Sandra Fox (N
 ew York University) will examine how a sense of cultural crisis birthed a 
 rite of passage for Jewish children across the country. This talk is free 
 and open to the public. Advance registration is required on the Bildner Ce
 nter's website.
DTSTART;TZID=America/New_York:20240408T193000
DTEND;TZID=America/New_York:20240408T203000
END:VEVENT
END:VCALENDAR
