BEGIN:VCALENDAR
PRODID:-//eluceo/ical//2.0/EN
VERSION:2.0
CALSCALE:GREGORIAN
BEGIN:VEVENT
UID:5ead391f75083658f2b69d5d3e878510
DTSTAMP:20260422T163501Z
SUMMARY:Jewish Salonica: Between the Ottoman Empire and Modern Greece
DESCRIPTION:Jewish Federation of West-Central New Jersey\nCommunity Calenda
 r\nhttps://jfedwcnj.org/calendar/jewish-salonica-between-the-ottoman-empir
 e-and-modern-greece-1506298879\n\nDevin Naar\, the Isaac Alhadeff Professo
 r of Sephardic Studies at the University of Washington\, will discuss his 
 recent book "Jewish Salonica: Between the Ottoman Empire and Modern Greece
 \," winner of the 2016 National Jewish Book Award for Archival Research. T
 he book tells the story of the tumultuous transition of the Sephardic Jewi
 sh community in Salonica (Thessaloniki)\, after the fall of the Ottoman Em
 pire and the incorporation of the city into Greece\, as they forged a new 
 place for themselv...
DTSTART;TZID=America/New_York:20171015T193000
DTEND;TZID=America/New_York:20171015T210000
END:VEVENT
END:VCALENDAR
