BEGIN:VCALENDAR
PRODID:-//eluceo/ical//2.0/EN
VERSION:2.0
CALSCALE:GREGORIAN
BEGIN:VEVENT
UID:4d6527d65ce87f1f92cd8c0f3e55e4fb
DTSTAMP:20260422T213435Z
SUMMARY:Jewish Renewel in Israeli Pop Music
DESCRIPTION:Jewish Federation of West-Central New Jersey\nCommunity Calenda
 r\nhttps://jfedwcnj.org/calendar/jewish-renewel-in-israeli-pop-music\n\nTh
 ere is a stream of religiosity in contemporary Israeli pop music. In a way
  it has always been part of the fabric of songs of the Land of Israel - so
 ngs from Ashkenazi tradition celebrating love of the Land and containing 
 an implicit connection to a sense of the divine. More recently\, several f
 amous musicians have become religiously observant\, and Mizrachi and Seph
 ardic sounds have entered the mainstream\, as has the music of more tradit
 ional Ashkenazi groups. In this class\, we will examine...
DTSTART;TZID=America/New_York:20151020T193000
DTEND;TZID=America/New_York:20151020T210000
END:VEVENT
END:VCALENDAR
