BEGIN:VCALENDAR
PRODID:-//eluceo/ical//2.0/EN
VERSION:2.0
CALSCALE:GREGORIAN
BEGIN:VEVENT
UID:29fe1021522c5cc628819d565f82ce04
DTSTAMP:20260421T131220Z
SUMMARY:Jewish Parenting in the Digital Age
DESCRIPTION:Jewish Federation of West-Central New Jersey\nCommunity Calenda
 r\nhttps://jfedwcnj.org/calendar/jewish-parenting-in-the-digital-age-15512
 16139\n\nThis event is FREE and open to the community
DTSTART;TZID=America/New_York:20190303T100000
DTEND;TZID=America/New_York:20190303T110000
END:VEVENT
END:VCALENDAR
