BEGIN:VCALENDAR
PRODID:-//eluceo/ical//2.0/EN
VERSION:2.0
CALSCALE:GREGORIAN
BEGIN:VEVENT
UID:8af53dc7af916ba4514b7412b9176943
DTSTAMP:20260422T222243Z
SUMMARY:Jewish-Muslims Relations: Challenges and Opportunities
DESCRIPTION:Jewish Federation of West-Central New Jersey\nCommunity Calenda
 r\nhttps://jfedwcnj.org/calendar/jewish-muslims-relations-challenges-and-o
 pportunities\n\nPart Two of Three Part Series: Muslim/Jewish Relations\n\n
 At a time when Jewish-Muslim relations are too often fraught with mutual s
 uspicion and competing narratives\, there is a great need for both communi
 ties to take stock of where we are and how we got here. In this presentati
 on\, we shall explore our present predicament from a number of overlapping
  angles - history\, religion and politics - and consider alternative route
 s being explored today in Israel\, Europe and the United States to confro.
 ..
DTSTART;TZID=America/New_York:20171205T190000
DTEND;TZID=America/New_York:20171205T210000
END:VEVENT
END:VCALENDAR
