BEGIN:VCALENDAR
PRODID:-//eluceo/ical//2.0/EN
VERSION:2.0
CALSCALE:GREGORIAN
BEGIN:VEVENT
UID:976bdcc9905581cdfa58d0a49e9fe767
DTSTAMP:20260422T110600Z
SUMMARY:Jewish Life in Poland-   A Talk by Rabbi Michael Schudrich
DESCRIPTION:Jewish Federation of West-Central New Jersey\nCommunity Calenda
 r\nhttps://jfedwcnj.org/calendar/jewish-life-in-poland----a-talk-by-rabbi-
 michael-schudrich-1447562066\n\nRabbi Schudrich will be speaking on the st
 ate of Jewish life and Jewish memory in Poland today.  He will be meeting 
 privately with Polish survivors prior to his talk and an informal receptio
 n for all will follow.
DTSTART;TZID=America/New_York:20151122T160000
DTEND;TZID=America/New_York:20151122T180000
END:VEVENT
END:VCALENDAR
