BEGIN:VCALENDAR
PRODID:-//eluceo/ical//2.0/EN
VERSION:2.0
CALSCALE:GREGORIAN
BEGIN:VEVENT
UID:1af1510777a39a93edd5b799efb72e6a
DTSTAMP:20260423T050559Z
SUMMARY:Jewish LIFE: 10 Steps to Reading Hebrew
DESCRIPTION:Jewish Federation of West-Central New Jersey\nCommunity Calenda
 r\nhttps://jfedwcnj.org/calendar/jewish-life-10-steps-to-reading-hebrew\n\
 n10 STEPS TO READING HEBREW\nThis class will teach the alef-bet and vowels
  and get you on your way to reading Hebrew quickly and comfortably. Fun le
 arning how to read is 100% guaranteed!\nInstructor: Sarah Gluck\nTextbook:
  “Shalom Hebrew!” (Behrman House)\nTuesday\, 7:00-8:15 p.m. (format: T
 BD) • January 4\, 11\, 18\; February 8\, 15\; March 1\, 8\, 15\, 22\, 29
DTSTART;TZID=America/New_York:20220111T190000
DTEND;TZID=America/New_York:20220111T201500
END:VEVENT
END:VCALENDAR
