BEGIN:VCALENDAR
PRODID:-//eluceo/ical//2.0/EN
VERSION:2.0
CALSCALE:GREGORIAN
BEGIN:VEVENT
UID:cd170362df149bf0dc2ec0351b1fb565
DTSTAMP:20260420T190459Z
SUMMARY:Jewish LIFE:  Film Series: "Keep Quiet" with guest speaker Margit F
 eldman
DESCRIPTION:Jewish Federation of West-Central New Jersey\nCommunity Calenda
 r\nhttps://jfedwcnj.org/calendar/jewish-life--film-series-keep-quiet-with-
 guest-speaker-margit-feldman-1520352166\n\nA shocking revelation that his 
 grandparents are Jewish Holocaust survivors forces an Anti-Semitic Hungari
 an politician to confront the painful truths of his family's past\, his ow
 n wrong doing and the turbulent history of his country and causes an impro
 bable\, but seemingly genuine\, conversion from prejudiced provocateur to 
 devout Jew.
DTSTART;TZID=America/New_York:20180317T184500
DTEND;TZID=America/New_York:20180317T213000
END:VEVENT
END:VCALENDAR
