BEGIN:VCALENDAR
PRODID:-//eluceo/ical//2.0/EN
VERSION:2.0
CALSCALE:GREGORIAN
BEGIN:VEVENT
UID:c804c1dd19a92658fd54eba672e108a2
DTSTAMP:20260421T070952Z
SUMMARY:Jewish Learning Institute - Wrestling with Faith
DESCRIPTION:Jewish Federation of West-Central New Jersey\nCommunity Calenda
 r\nhttps://jfedwcnj.org/calendar/jewish-learning-institue---wrestling-with
 -faith-1539706796\n\nIn Wrestling with Faith\, JLI offers a steady and ins
 piring voice to help us reaffirm and understand our faith in a world where
  nothing seems solid or permanent. Drawing upon 3\,000 years of Jewish kno
 wledge\, as well as a storehouse of literary\, psychological\, and theolog
 ical insights\, the course examines the fears and doubts that challenge us
 . It is in these struggles to find meaning that the course lays out a path
  for belief in a world struggling to find faith\; but perhaps more importa
 nt\, it...
DTSTART;TZID=America/New_York:20181022T193000
DTEND;TZID=America/New_York:20181022T203000
END:VEVENT
END:VCALENDAR
