BEGIN:VCALENDAR
PRODID:-//eluceo/ical//2.0/EN
VERSION:2.0
CALSCALE:GREGORIAN
BEGIN:VEVENT
UID:daf3b35bca7961395a1c805978ef42d3
DTSTAMP:20260423T200126Z
SUMMARY:Take me out to the Ball Park!
DESCRIPTION:Jewish Federation of West-Central New Jersey\nCommunity Calenda
 r\nhttps://jfedwcnj.org/calendar/jewish-heritage-night-the-ball-park-15242
 54229\n\nCome watch the Somerset Patriots play baseball with the Jewish Fe
 deration of Somerset\, Hunterdon&Warren Counties and Shimon and Sara Birnb
 aum Jewish Community Center. Tickets are $11.50 Per Person. \n\nPlese go 
 to http://www.somersetpatriots.com/tickets/groupportal/  and enter code 
 JFED18. 
DTSTART;TZID=America/New_York:20180628T190000
DTEND;TZID=America/New_York:20180628T220000
END:VEVENT
END:VCALENDAR
