BEGIN:VCALENDAR
PRODID:-//eluceo/ical//2.0/EN
VERSION:2.0
CALSCALE:GREGORIAN
BEGIN:VEVENT
UID:a411b1a0a02e68efe8dbc4ac951dca15
DTSTAMP:20260421T071813Z
SUMMARY:Jewish GIs in World War II: Revisiting a Generation's Experience
DESCRIPTION:Jewish Federation of West-Central New Jersey\nCommunity Calenda
 r\nhttps://jfedwcnj.org/calendar/jewish-gis-in-world-war-ii-revisiting-a-g
 enerations-experience\n\nMore details coming soon 
DTSTART;TZID=America/New_York:20241113T190000
DTEND;TZID=America/New_York:20241113T210000
END:VEVENT
END:VCALENDAR
