BEGIN:VCALENDAR
PRODID:-//eluceo/ical//2.0/EN
VERSION:2.0
CALSCALE:GREGORIAN
BEGIN:VEVENT
UID:b2ad0d0788a52ac85b36a67bb458fcca
DTSTAMP:20260423T184723Z
SUMMARY:Jewish Genealogy: Dispelling two widely held myths
DESCRIPTION:Jewish Federation of West-Central New Jersey\nCommunity Calenda
 r\nhttps://jfedwcnj.org/calendar/jewish-genealogy-dispelling-two-widely-he
 ld-myths\n\nThis event will be facilitated by Susan Kobren\, President of 
 the Jewish Genealogical Society of North Jersey.\n\nSusan will dispel two 
 widely held myths. First “if I never interviewed my parents and/or grand
 parents\, there is very little I can do”. Second\, that all the records 
 were burned and there is nothing left to research. Both of these are untru
 e. Come find out why.\n\nSusan Kobren has been avidly researching her own 
 family history since 1989. She has connected with several “lost”...
DTSTART;TZID=America/New_York:20150709T130000
DTEND;TZID=America/New_York:20150709T143000
END:VEVENT
END:VCALENDAR
