BEGIN:VCALENDAR
PRODID:-//eluceo/ical//2.0/EN
VERSION:2.0
CALSCALE:GREGORIAN
BEGIN:VEVENT
UID:d872378f6503d3c8f354bfd80e5539e4
DTSTAMP:20260423T124046Z
SUMMARY:Jewish Film Series - Off-White Lies
DESCRIPTION:Jewish Federation of West-Central New Jersey\nCommunity Calenda
 r\nhttps://jfedwcnj.org/calendar/jewish-film-series-off-white-lies\n\nTemp
 le Beth-El Jewish Film Series Event\n\nOff-White Lies\n\nPoised unwavering
 ly between gentle comedy and delicate drama\, Israeli filmmaker Maya Kenig
  uses the 2006 war between Israel and Hezbollah as a springboard for an ex
 ploration of the troubled relationship between an unemployed father and hi
 s teenage daughter. While posing as war refugees\, father and daughter lea
 rn the limits of deception and slowly form an emotional bond that finally 
 transforms them into something like family.\n\nSugg...
DTSTART;TZID=America/New_York:20200523T190000
DTEND;TZID=America/New_York:20200523T210000
END:VEVENT
END:VCALENDAR
