BEGIN:VCALENDAR
PRODID:-//eluceo/ical//2.0/EN
VERSION:2.0
CALSCALE:GREGORIAN
BEGIN:VEVENT
UID:8d09b9b5091fca84285ff3e1724da0b9
DTSTAMP:20260420T221755Z
SUMMARY:Jewish Federation of West-Central New Jersey Annual Meeting
DESCRIPTION:Jewish Federation of West-Central New Jersey\nCommunity Calenda
 r\nhttps://jfedwcnj.org/calendar/jewish-federation-of-west-central-new-jer
 sey-annual-meeting\n\nSave the date. More information coming soon 
DTSTART;TZID=America/New_York:20240521T180000
DTEND;TZID=America/New_York:20240521T210000
END:VEVENT
END:VCALENDAR
