BEGIN:VCALENDAR
PRODID:-//eluceo/ical//2.0/EN
VERSION:2.0
CALSCALE:GREGORIAN
BEGIN:VEVENT
UID:717491550e1d0ccef005655d8d99bc45
DTSTAMP:20260423T200904Z
SUMMARY:Jewish Federation Community Mission to Cuba
DESCRIPTION:Jewish Federation of West-Central New Jersey\nCommunity Calenda
 r\nhttps://jfedwcnj.org/calendar/jewish-federation-community-mission-to-cu
 ba\n\nJoin the Jewish Federation of Somerset\, Hunterdon & Warren Counties
  on a community mission to Cuba. \n\nON OUR 7-NIGHT JOURNEY WE WILL:\n\n
 • Explore Jewish heritage and history in Havana\, Santa\nClara\, Trinida
 d and Cienfuegos\n• Meet with leaders and members of the communities and
 \nlearn about Judaism alive in Cuba today\n• Celebrate Shabbat with the 
 Sephardic Center community\n• Savor the flavors of Cuban cuisine and dan
 ce to the beat\nof the local music\n• See Old Havana (Havana ...
DTSTART;TZID=America/New_York:20230312T000000
DTEND;TZID=America/New_York:20230319T000000
END:VEVENT
END:VCALENDAR
