BEGIN:VCALENDAR
PRODID:-//eluceo/ical//2.0/EN
VERSION:2.0
CALSCALE:GREGORIAN
BEGIN:VEVENT
UID:25f507808b9085de0dadde22824f6d3b
DTSTAMP:20260420T223618Z
SUMMARY:Jewish Federation 60th Diamond Anniversary Virtual celebration
DESCRIPTION:Jewish Federation of West-Central New Jersey\nCommunity Calenda
 r\nhttps://jfedwcnj.org/calendar/jewish-federation-60th-diamond-anniversar
 y-virtual-celebration\n\nJoin us for an exciting evening of virtual entert
 ainment as we kick off our 60th year and look forward to many years to com
 e!\n\nCouvert: $36 \n\nLive Entertainment Tom Kennedy - The Other Mentali
 st\n\nVisit Jfedshaw.org/60 to register \n\n 
DTSTART;TZID=America/New_York:20211007T190000
DTEND;TZID=America/New_York:20211007T210000
END:VEVENT
END:VCALENDAR
