BEGIN:VCALENDAR
PRODID:-//eluceo/ical//2.0/EN
VERSION:2.0
CALSCALE:GREGORIAN
BEGIN:VEVENT
UID:5af9e0aa836c419980d3aa754a397e46
DTSTAMP:20260422T065102Z
SUMMARY:Jerusalem: City of the Book
DESCRIPTION:Jewish Federation of West-Central New Jersey\nCommunity Calenda
 r\nhttps://jfedwcnj.org/calendar/jerusalem-city-of-the-book-1579710870\n\n
 The Toby and Herbert Stolzer Endowed Program\n\nJerusalem is the extraordi
 nary city where some of the Western world's most enduring ideas were devel
 oped. A distinguished panel will tell the story of the ancient city and of
  its people of diverse faiths and cultures through forays into its most in
 accessible holdings: hidden Jewish archives\, rare manuscripts in Christia
 n and Islamic libraries\, and the riches of its Armenian heritage.\n\nPANE
 L:\nBenjamin Balint\, Fellow\, Van Leer Institute\nFather...
DTSTART;TZID=America/New_York:20200329T160000
DTEND;TZID=America/New_York:20200329T180000
END:VEVENT
END:VCALENDAR
