BEGIN:VCALENDAR
PRODID:-//eluceo/ical//2.0/EN
VERSION:2.0
CALSCALE:GREGORIAN
BEGIN:VEVENT
UID:6794378f15f5b71f183c132e432ae84f
DTSTAMP:20260424T073255Z
SUMMARY:JCNWJ Israel Seminar Series an "on-site" Virtual Tour Part 4
DESCRIPTION:Jewish Federation of West-Central New Jersey\nCommunity Calenda
 r\nhttps://jfedwcnj.org/calendar/jcnwj-israel-seminar-series-an-on-site-vi
 rtual-tour-part-4\n\nThis will be a six part tour. Uri will address us fro
 m Israel Via Zoom\, but we will gather at the Jewish Center of Northwest J
 ersey to experience the tours live on a ten -foot screen. \n\n \n\nYou c
 an also watch the tours on zoom from your home. \n\nDates of the Tour: \
 n\nDec.12 - Memorials and Memory in the State of Israel\n\nDec. 19 - The S
 econd Temple: Pilgrims and Sects \n\nDec. 26th - Some hidden Gems off the
  Beaten Path \n\n \n\nFor more information E-mail :jcnwjprez@gmail.com
  
DTSTART;TZID=America/New_York:20211212T140000
DTEND;TZID=America/New_York:20211212T151500
END:VEVENT
END:VCALENDAR
