BEGIN:VCALENDAR
PRODID:-//eluceo/ical//2.0/EN
VERSION:2.0
CALSCALE:GREGORIAN
BEGIN:VEVENT
UID:1e9defd837cc629680da7a3479ddc82a
DTSTAMP:20260423T093503Z
SUMMARY:JCNWJ Israel Seminar Series an "on-site" Virtual Tour Part 3
DESCRIPTION:Jewish Federation of West-Central New Jersey\nCommunity Calenda
 r\nhttps://jfedwcnj.org/calendar/jcnwj-israel-seminar-series-an-on-site-vi
 rtual-tour-part-3\n\nThis will be a six part tour. Uri will address us fr
 om Israel Via Zoom\, but we will gather at the Jewish Center of Northwest 
 Jersey to experience the tours live on a ten -foot screen. \n\n \n\nYou 
 can also watch the tours on zoom from your home. \n\nDates of the Tour: 
 \n\nDec. 5th - Chanukah in Modiin: Where it all started Then and Now\n\nDe
 c.12 - Memorials and Memory in the State of Israel\n\nDec. 19 - THe Second
  Temple: Pilgrims and Sects \n\nDec. 26th - Some hidden Gems off the Beat
 e...
DTSTART;TZID=America/New_York:20211205T140000
DTEND;TZID=America/New_York:20211205T151500
END:VEVENT
END:VCALENDAR
