BEGIN:VCALENDAR
PRODID:-//eluceo/ical//2.0/EN
VERSION:2.0
CALSCALE:GREGORIAN
BEGIN:VEVENT
UID:d6ab8a7171454b7b6e8fe627bde2195c
DTSTAMP:20260420T064420Z
SUMMARY:JCNWJ Israel Seminar Series an "on-site" Virtual Tour Part 2
DESCRIPTION:Jewish Federation of West-Central New Jersey\nCommunity Calenda
 r\nhttps://jfedwcnj.org/calendar/jcnwj-israel-seminar-series-an-on-site-vi
 rtual-tour-part-2\n\nThis will be a six part tour. Uri will address us fro
 m Israel Via Zoom\, but we will gather at the Jewish Center of Northwest J
 ersey to experience the tours live on a ten -foot screen. \n\n \n\nYou c
 an also watch the tours on zoom from your home. \n\nDates of the Tour: \
 n\nNov. 28th - The Golan Heights: Hikers\, Fighters\, Farmers\, and a 5th 
 Century Frontier\n\nDec. 5th - Chanukah in Modiin: Where it all started Th
 en and Now\n\nDec.12 - Memorials and Memory in the State of Israel\n\nDec.
  19 ...
DTSTART;TZID=America/New_York:20211128T140000
DTEND;TZID=America/New_York:20211128T151500
END:VEVENT
END:VCALENDAR
