BEGIN:VCALENDAR
PRODID:-//eluceo/ical//2.0/EN
VERSION:2.0
CALSCALE:GREGORIAN
BEGIN:VEVENT
UID:632062429fd7de7bba85e28b96d912b8
DTSTAMP:20260420T064410Z
SUMMARY:JCNWJ Israel Seminar Series an "on-site" Virtual Tour Part 1
DESCRIPTION:Jewish Federation of West-Central New Jersey\nCommunity Calenda
 r\nhttps://jfedwcnj.org/calendar/jcnwj-israel-seminar-series-an-on-site-vi
 rtual-tour-part-1\n\nThis will be a six part tour. Uri will address us fro
 m Israel Via Zoom\, but we will gather at the Jewish Center of Northwest J
 ersey to experience the tours live on a ten -foot screen. \n\n \n\nYou c
 an also watch the tours on zoom from your home. \n\nDates of the Tour: \
 n\n Nov. 21st - The Early Zionists \n\nNov. 28th - The Golan Heights: Hi
 kers\, Fighters\, Farmers\, and a 5th Century Frontier\n\nDec. 5th - Chanu
 kah in Modiin: Where it all started Then and Now\n\nDec.12 - Memorials and
  Mem...
DTSTART;TZID=America/New_York:20211121T140000
DTEND;TZID=America/New_York:20211121T151500
END:VEVENT
END:VCALENDAR
