BEGIN:VCALENDAR
PRODID:-//eluceo/ical//2.0/EN
VERSION:2.0
CALSCALE:GREGORIAN
BEGIN:VEVENT
UID:44d8e32fb96074fa26b377141b26d58d
DTSTAMP:20260425T015208Z
SUMMARY:JCC Triathlon
DESCRIPTION:Jewish Federation of West-Central New Jersey\nCommunity Calenda
 r\nhttps://jfedwcnj.org/calendar/jcc-triathlon\n\nThere is a way for every
 one to participate – from our individual Sprint and Super Sprint distanc
 e events\, to relays.  This day is sure to make you feel amazing about yo
 ur accomplishments both on land and in the water. Run\, Bike\, and Swim yo
 ur way to supporting the JCC Scholarship Fund\, which supports JCC special
  needs programs and our camp and early childhood Scholarship Fund.\n\n \n
 \n\nWhere: At the JCC Bridgewater\, NJ 775 Talamini Road\, Bridgewater\, N
 J 08807\; 908-443-9018\;\nWhen: Sunday\, April...
DTSTART;TZID=America/New_York:20230430T073000
DTEND;TZID=America/New_York:20230430T150000
END:VEVENT
END:VCALENDAR
