BEGIN:VCALENDAR
PRODID:-//eluceo/ical//2.0/EN
VERSION:2.0
CALSCALE:GREGORIAN
BEGIN:VEVENT
UID:d5219fee1d707f229ba22aaa1cbc3c61
DTSTAMP:20260423T091447Z
SUMMARY:JCC Special Needs Symposium
DESCRIPTION:Jewish Federation of West-Central New Jersey\nCommunity Calenda
 r\nhttps://jfedwcnj.org/calendar/jcc-special-needs-symposium-1443910004\n\
 nJCC Special Needs Symposium with Key Note  Speaker Dr. Temple Grandin. \n
 A Day of Learning for Parents\, Caregivers\, and Professionals\nRaritan Va
 lley Community College Friday\, December 11\, 2015 8:30am - 2:30pm\nDr. Te
 mple Grandin has served as inspiration and role model to hundreds\nof thou
 sands of families and persons with autism. In this unique presentation\,\n
 Temple will eloquently and candidly describe the challenges she has faced\
 nand will offer no-nonsense ideas on how others dealing...
DTSTART;TZID=America/New_York:20151211T083000
DTEND;TZID=America/New_York:20151211T143000
END:VEVENT
END:VCALENDAR
