BEGIN:VCALENDAR
PRODID:-//eluceo/ical//2.0/EN
VERSION:2.0
CALSCALE:GREGORIAN
BEGIN:VEVENT
UID:739c1ddd1c08e64374bc952a07da002f
DTSTAMP:20260424T102051Z
SUMMARY:JCC Open House
DESCRIPTION:Jewish Federation of West-Central New Jersey\nCommunity Calenda
 r\nhttps://jfedwcnj.org/calendar/jcc-open-house-1473190796\n\nOpen House a
 t the JCC\, Sunday September 11 from 10 am &ndash\; 1 pm.  Come into the J
 CC and see what we have to offer.  As the leaves start to fall&hellip\; so
  is our membership pricing.  All are welcome at the JCC! \n*New Star Membe
 rs save up to $350! No Joiner Fee on all new membership.  (*Applies to fir
 st time JCC Members.  Some restrictions apply.)  Membership includes: Func
 tional Small Group Training\, TRX Suspension Training\, FitBoxing\, FitGro
 und outdoor training area\, and Sports-Specific Cross...
DTSTART;TZID=America/New_York:20160911T100000
DTEND;TZID=America/New_York:20160911T130000
END:VEVENT
END:VCALENDAR
