BEGIN:VCALENDAR
PRODID:-//eluceo/ical//2.0/EN
VERSION:2.0
CALSCALE:GREGORIAN
BEGIN:VEVENT
UID:6100db9350366831da033dc5e3379bea
DTSTAMP:20260420T195014Z
SUMMARY:JCC Open House
DESCRIPTION:Jewish Federation of West-Central New Jersey\nCommunity Calenda
 r\nhttps://jfedwcnj.org/calendar/jcc-open-house\n\nJoin the JCC January 9 
 and Save 50% off your First Three Months of Membership Dues and No Joiner 
 Fee! (Save up to $345)\nPreview Week –  January 2 – 8\, Try Us Out Fo
 r FREE!\n\n\n(6 Month Membership Commitment Required. Some Restrictions Ap
 ply.)
DTSTART;TZID=America/New_York:20220109T090000
DTEND;TZID=America/New_York:20220109T130000
END:VEVENT
END:VCALENDAR
