BEGIN:VCALENDAR
PRODID:-//eluceo/ical//2.0/EN
VERSION:2.0
CALSCALE:GREGORIAN
BEGIN:VEVENT
UID:e302117d072d5a1bcb2596d2061e847d
DTSTAMP:20260424T100322Z
SUMMARY:JCC Golf and Tennis Outin
DESCRIPTION:Jewish Federation of West-Central New Jersey\nCommunity Calenda
 r\nhttps://jfedwcnj.org/calendar/jcc-golf-and-tennis-outin\n\nGolf Tournam
 ent\, includes lunch\, dinner\, open bar and awards. Tournament benefits t
 he JCC Sustainability Fund.
DTSTART;TZID=America/New_York:20220613T110000
DTEND;TZID=America/New_York:20220613T180000
END:VEVENT
END:VCALENDAR
