BEGIN:VCALENDAR
PRODID:-//eluceo/ical//2.0/EN
VERSION:2.0
CALSCALE:GREGORIAN
BEGIN:VEVENT
UID:a1d89de401795fb1b9ee37fea46573fb
DTSTAMP:20260423T010436Z
SUMMARY:JCC Fit Day
DESCRIPTION:Jewish Federation of West-Central New Jersey\nCommunity Calenda
 r\nhttps://jfedwcnj.org/calendar/jcc-fit-day-1549401201\n\nDetails TBD
DTSTART;TZID=America/New_York:20190922T120000
DTEND;TZID=America/New_York:20190922T235959
END:VEVENT
END:VCALENDAR
