BEGIN:VCALENDAR
PRODID:-//eluceo/ical//2.0/EN
VERSION:2.0
CALSCALE:GREGORIAN
BEGIN:VEVENT
UID:52250bea70b92af5af4c72d5d4f15144
DTSTAMP:20260421T050711Z
SUMMARY:JCC Dueling Pianos Event
DESCRIPTION:Jewish Federation of West-Central New Jersey\nCommunity Calenda
 r\nhttps://jfedwcnj.org/calendar/jcc-dueling-pianos-event\n\ntba
DTSTART;TZID=America/New_York:20220402T190000
DTEND;TZID=America/New_York:20220402T220000
END:VEVENT
END:VCALENDAR
