BEGIN:VCALENDAR
PRODID:-//eluceo/ical//2.0/EN
VERSION:2.0
CALSCALE:GREGORIAN
BEGIN:VEVENT
UID:254784b621554f2f6384ae2dee4d2bc5
DTSTAMP:20260422T005017Z
SUMMARY:JCC Community Garage Sale
DESCRIPTION:Jewish Federation of West-Central New Jersey\nCommunity Calenda
 r\nhttps://jfedwcnj.org/calendar/jcc-community-garage-sale-1554319132\n\nT
 his is a rain or shine event -- Details TBA!
DTSTART;TZID=America/New_York:20191006T100000
DTEND;TZID=America/New_York:20191006T160000
END:VEVENT
END:VCALENDAR
