BEGIN:VCALENDAR
PRODID:-//eluceo/ical//2.0/EN
VERSION:2.0
CALSCALE:GREGORIAN
BEGIN:VEVENT
UID:f7fb34cf4276283edeffa5129d1ab840
DTSTAMP:20260423T120046Z
SUMMARY:JCC Chanukah Game Show!
DESCRIPTION:Jewish Federation of West-Central New Jersey\nCommunity Calenda
 r\nhttps://jfedwcnj.org/calendar/jcc-chanukah-game-show\n\nFee: $10 per pe
 rson for $36 per family\n\nPowerhouse Studios Presents... Chanukah Game Sh
 ow! \n\nJoin your JCC family and friends for a Chanukah celebration incl
 uding a game show\, dinner and latkes.\n\n 
DTSTART;TZID=America/New_York:20161214T180000
DTEND;TZID=America/New_York:20161214T200000
END:VEVENT
END:VCALENDAR
