BEGIN:VCALENDAR
PRODID:-//eluceo/ical//2.0/EN
VERSION:2.0
CALSCALE:GREGORIAN
BEGIN:VEVENT
UID:7f98248ce70ebf919554b47fbacc841f
DTSTAMP:20260422T091403Z
SUMMARY:Greetings from Bridgewater JCC\, NJ
DESCRIPTION:Jewish Federation of West-Central New Jersey\nCommunity Calenda
 r\nhttps://jfedwcnj.org/calendar/jcc-celebration-1526563580\n\nSAVE THE DA
 TE!\n\nGreetings from the Bridgewater JCC! Come Celebrate with us!\n\nSatu
 rday\, October 6 at 7 PM\n**Event Details Coming Soon**
DTSTART;TZID=America/New_York:20181006T190000
DTEND;TZID=America/New_York:20181006T230000
END:VEVENT
END:VCALENDAR
