BEGIN:VCALENDAR
PRODID:-//eluceo/ical//2.0/EN
VERSION:2.0
CALSCALE:GREGORIAN
BEGIN:VEVENT
UID:26f13e1a955e9c69f359aac91e8d3b8f
DTSTAMP:20260424T053011Z
SUMMARY:JCC Camp Ruach Open House
DESCRIPTION:Jewish Federation of West-Central New Jersey\nCommunity Calenda
 r\nhttps://jfedwcnj.org/calendar/jcc-camp-ruach-open-house-1705573880\n\nS
 ave $200 on NEW Camp Registrations. Come and meet our camp staff\, take a 
 tour of our facilities\, and ask all your questions.
DTSTART;TZID=America/New_York:20240208T173000
DTEND;TZID=America/New_York:20240208T190000
END:VEVENT
END:VCALENDAR
