BEGIN:VCALENDAR
PRODID:-//eluceo/ical//2.0/EN
VERSION:2.0
CALSCALE:GREGORIAN
BEGIN:VEVENT
UID:984768b2ba6ff91bccd09dc5307981aa
DTSTAMP:20260422T104007Z
SUMMARY:JCC Beerfest
DESCRIPTION:Jewish Federation of West-Central New Jersey\nCommunity Calenda
 r\nhttps://jfedwcnj.org/calendar/jcc-beerfest-1477496517\n\nTBD
DTSTART;TZID=America/New_York:20170325T000000
DTEND;TZID=America/New_York:20170325T235959
END:VEVENT
END:VCALENDAR
