BEGIN:VCALENDAR
PRODID:-//eluceo/ical//2.0/EN
VERSION:2.0
CALSCALE:GREGORIAN
BEGIN:VEVENT
UID:86f26647b4f09f5f6296dad181b2ece6
DTSTAMP:20260423T091705Z
SUMMARY:JCC Beerfest
DESCRIPTION:Jewish Federation of West-Central New Jersey\nCommunity Calenda
 r\nhttps://jfedwcnj.org/calendar/jcc-beerfest\n\ntba
DTSTART;TZID=America/New_York:20220514T110000
DTEND;TZID=America/New_York:20220514T160000
END:VEVENT
END:VCALENDAR
