BEGIN:VCALENDAR
PRODID:-//eluceo/ical//2.0/EN
VERSION:2.0
CALSCALE:GREGORIAN
BEGIN:VEVENT
UID:ada06c27326c232c79817a4d82fafe56
DTSTAMP:20260422T200951Z
SUMMARY:JCC 20th Anniversary Gala
DESCRIPTION:Jewish Federation of West-Central New Jersey\nCommunity Calenda
 r\nhttps://jfedwcnj.org/calendar/jcc-20th-anniversary-gala-1551288179\n\nE
 at\, Laugh\, Celebrate! \n\nAn evening celebrating 20 years of the JCC & 
 past presidents \n\n \n\n$136 per person \n\n \n\nThis event supports 
 the JCC Special Needs Scholarship Fund. 
DTSTART;TZID=America/New_York:20191123T190000
DTEND;TZID=America/New_York:20191123T230000
END:VEVENT
END:VCALENDAR
