BEGIN:VCALENDAR
PRODID:-//eluceo/ical//2.0/EN
VERSION:2.0
CALSCALE:GREGORIAN
BEGIN:VEVENT
UID:8850e4ad68238b774935632af07b0c0f
DTSTAMP:20260422T090200Z
SUMMARY:JCC & JFedSHAW Joint Annual Meeting
DESCRIPTION:Jewish Federation of West-Central New Jersey\nCommunity Calenda
 r\nhttps://jfedwcnj.org/calendar/jcc--jfedshaw-joint-annual-meeting-155509
 3887\n\nJoin the Board and Staff of both The Shimon and Sara Birnbaum Jewi
 sh Community Center and The Jewish Federation of Somerset\, Hunterdon and 
 Warren Counties for their Annual Meeting!
DTSTART;TZID=America/New_York:20190611T183000
DTEND;TZID=America/New_York:20190611T210000
END:VEVENT
END:VCALENDAR
