BEGIN:VCALENDAR
PRODID:-//eluceo/ical//2.0/EN
VERSION:2.0
CALSCALE:GREGORIAN
BEGIN:VEVENT
UID:f5b2ec1785d1aaf0b691bd82b395fabd
DTSTAMP:20260424T080457Z
SUMMARY:JCC & JFED Annual Meeting
DESCRIPTION:Jewish Federation of West-Central New Jersey\nCommunity Calenda
 r\nhttps://jfedwcnj.org/calendar/jcc--jfed-annual-meeting-1526564017\n\nTh
 e Board of Directors and Staff of the Jewish Federation of Somerset\, Hunt
 erdon & Warren Counties and Shimon and Sara Birnbaum Jewish Community Cent
 er Cordially invite you to join us for our Annual Meeting held at the JCC.
   All are welcome to attend.  Celebrating our Community Installation of Bo
 ard of Directors l Special Recognition l 6:30 pm Dinner & Drinks 7:00 pm P
 rogram Special Guest Speaker\, Senator Kip Bateman Israel From a Legislato
 rs Point of View  RSVP: emccloskey@ssbjcc.org by Frid...
DTSTART;TZID=America/New_York:20180612T183000
DTEND;TZID=America/New_York:20180612T203000
END:VEVENT
END:VCALENDAR
