BEGIN:VCALENDAR
PRODID:-//eluceo/ical//2.0/EN
VERSION:2.0
CALSCALE:GREGORIAN
BEGIN:VEVENT
UID:89425810f520b2f166c68a408d8c4bb8
DTSTAMP:20260420T185724Z
SUMMARY:J-Triathlon
DESCRIPTION:Jewish Federation of West-Central New Jersey\nCommunity Calenda
 r\nhttps://jfedwcnj.org/calendar/j-triathlon-1705582695\n\nTRI again! The 
 2nd annual JCC Triathlon is Sunday\, April 14\, 2024. Is a Triathlon on yo
 ur bucket list for 2024? The JCC in Bridgewater is pleased to announce our
  2nd annual hybrid indoor/outdoor Sprint Triathlon on April 14th\, 2024! T
 his event will provide participants with a fun environment to test their s
 wimming\, biking\, and running skills as well as to enjoy our local active
  community. Participants will swim as many lengths of the pool over a 10-m
 inute period of time in our bubble pool. Fr...
DTSTART;TZID=America/New_York:20240414T073000
DTEND;TZID=America/New_York:20240414T150000
END:VEVENT
END:VCALENDAR
